BEGIN:VCALENDAR
VERSION:2.0
PRODID:-//Tukios.com/
BEGIN:VEVENT
UID:a9344eae-26ba-4bba-9489-4345c5d83913@www.greenfamilycremationandburial.com
DTSTAMP:20260424T011815Z
DTSTART:20260502T200000Z
DTEND:20260502T210000Z
SUMMARY:Celebration Of Life for BRITTANY MICHELLE COOK
DESCRIPTION:
URL:https://www.greenfamilycremationandburial.com/obituaries/brittany-cook
LOCATION:GREATER MORNING STAR BAPTIST CHURCH 1973 17th Street  Santa 
	Monica CA 90404
GEO:34.0183829;-118.4730228
END:VEVENT
END:VCALENDAR